BEGIN:VCALENDAR
VERSION:2.0
PRODID:-//Sulkavan moottorikerho - ECPv6.15.20//NONSGML v1.0//EN
CALSCALE:GREGORIAN
METHOD:PUBLISH
X-WR-CALNAME:Sulkavan moottorikerho
X-ORIGINAL-URL:https://sulkavanmoottorikerho.club
X-WR-CALDESC:Tapahtumat Sulkavan moottorikerho
REFRESH-INTERVAL;VALUE=DURATION:PT1H
X-Robots-Tag:noindex
X-PUBLISHED-TTL:PT1H
BEGIN:VTIMEZONE
TZID:Europe/Moscow
BEGIN:STANDARD
TZOFFSETFROM:+0300
TZOFFSETTO:+0300
TZNAME:MSK
DTSTART:20220101T000000
END:STANDARD
END:VTIMEZONE
BEGIN:VEVENT
DTSTART;VALUE=DATE:20230910
DTEND;VALUE=DATE:20230911
DTSTAMP:20260421T124626
CREATED:20230329T162055Z
LAST-MODIFIED:20230329T162055Z
UID:953-1694304000-1694390399@sulkavanmoottorikerho.club
SUMMARY:Sarjacrossit 10.9
DESCRIPTION:
URL:https://sulkavanmoottorikerho.club/tapahtumat/sarjacrossit-10-9/
LOCATION:Haukkamäen Motocrossrata\, Yhdystie 20\, 58700\, Sulkava\, Suomi
CATEGORIES:Kisa
END:VEVENT
END:VCALENDAR