BEGIN:VCALENDAR
VERSION:2.0
PRODID:-//Sulkavan moottorikerho - ECPv6.15.20//NONSGML v1.0//EN
CALSCALE:GREGORIAN
METHOD:PUBLISH
X-ORIGINAL-URL:https://sulkavanmoottorikerho.club
X-WR-CALDESC:Tapahtumat Sulkavan moottorikerho
REFRESH-INTERVAL;VALUE=DURATION:PT1H
X-Robots-Tag:noindex
X-PUBLISHED-TTL:PT1H
BEGIN:VTIMEZONE
TZID:Europe/Moscow
BEGIN:STANDARD
TZOFFSETFROM:+0300
TZOFFSETTO:+0300
TZNAME:MSK
DTSTART:20220101T000000
END:STANDARD
END:VTIMEZONE
BEGIN:VEVENT
DTSTART;VALUE=DATE:20230816
DTEND;VALUE=DATE:20230817
DTSTAMP:20260421T165533
CREATED:20230328T125923Z
LAST-MODIFIED:20230619T142237Z
UID:854-1692144000-1692230399@sulkavanmoottorikerho.club
SUMMARY:Sarjacrossit 16.8
DESCRIPTION:
URL:https://sulkavanmoottorikerho.club/tapahtumat/sarjacrossit-21-6/
LOCATION:Haukkamäen Motocrossrata\, Yhdystie 20\, 58700\, Sulkava\, Suomi
CATEGORIES:Kisa
ATTACH;FMTTYPE=image/jpeg:https://sulkavanmoottorikerho.club/wp-content/uploads/2023/03/20190706222157-693390ba-xl.jpg
END:VEVENT
END:VCALENDAR